BEGIN:VCALENDAR
VERSION:2.0
PRODID:-//Office of Tourism Development | Industry Website - ECPv5.3.2.1//NONSGML v1.0//EN
CALSCALE:GREGORIAN
METHOD:PUBLISH
X-WR-CALNAME:Office of Tourism Development | Industry Website
X-ORIGINAL-URL:https://industry.visitmaryland.org
X-WR-CALDESC:Events for Office of Tourism Development | Industry Website
BEGIN:VTIMEZONE
TZID:Asia/Karachi
BEGIN:STANDARD
TZOFFSETFROM:+0500
TZOFFSETTO:+0500
TZNAME:PKT
DTSTART:20150101T000000
END:STANDARD
END:VTIMEZONE
BEGIN:VEVENT
DTSTART;VALUE=DATE:20150325
DTEND;VALUE=DATE:20150327
DTSTAMP:20210606T194025
CREATED:20150203T214239Z
LAST-MODIFIED:20150223T225130Z
UID:191-1427241600-1427414399@industry.visitmaryland.org
SUMMARY:Destination Capitol Hill
DESCRIPTION:Destination Capitol Hill (DCH) is the U.S. Travel industry’s premier legislative fly-in. The event brings travel leaders from across the country to Washington\, D.C. to educate policymakers about the power of travel.  \nThe program combines a legislative day on Capitol Hill with advocacy training\, guest speakers and peer-to-peer networking. DCH provides delegates with an opportunity to learn about upcoming legislation that impacts travel\, network with peers and meet with members of Congress to stress the importance of travel as an economic driver. \nMore Information
URL:https://industry.visitmaryland.org/event/destination-capitol-hill/
LOCATION:Washington\, DC\, Washington\, DC\, DC\, 21202\, United States
END:VEVENT
END:VCALENDAR