BEGIN:VCALENDAR
VERSION:2.0
PRODID:-//Office of Tourism Development | Industry Website - ECPv5.3.2.1//NONSGML v1.0//EN
CALSCALE:GREGORIAN
METHOD:PUBLISH
X-WR-CALNAME:Office of Tourism Development | Industry Website
X-ORIGINAL-URL:https://industry.visitmaryland.org
X-WR-CALDESC:Events for Office of Tourism Development | Industry Website
BEGIN:VTIMEZONE
TZID:Asia/Karachi
BEGIN:STANDARD
TZOFFSETFROM:+0500
TZOFFSETTO:+0500
TZNAME:PKT
DTSTART:20180101T000000
END:STANDARD
END:VTIMEZONE
BEGIN:VEVENT
DTSTART;VALUE=DATE:20180424
DTEND;VALUE=DATE:20180428
DTSTAMP:20210517T062234
CREATED:20180409T152558Z
LAST-MODIFIED:20180409T152558Z
UID:5829-1524528000-1524873599@industry.visitmaryland.org
SUMMARY:North American Travel Journalists Annual Conference (Branson\, MO)
DESCRIPTION:
URL:https://industry.visitmaryland.org/event/north-american-travel-journalists-annual-conference-branson-mo/
END:VEVENT
END:VCALENDAR