BEGIN:VCALENDAR
VERSION:2.0
PRODID:-//Office of Tourism Development | Industry Website - ECPv5.3.2.1//NONSGML v1.0//EN
CALSCALE:GREGORIAN
METHOD:PUBLISH
X-WR-CALNAME:Office of Tourism Development | Industry Website
X-ORIGINAL-URL:https://industry.visitmaryland.org
X-WR-CALDESC:Events for Office of Tourism Development | Industry Website
BEGIN:VTIMEZONE
TZID:Asia/Karachi
BEGIN:STANDARD
TZOFFSETFROM:+0500
TZOFFSETTO:+0500
TZNAME:PKT
DTSTART:20170101T000000
END:STANDARD
END:VTIMEZONE
BEGIN:VEVENT
DTSTART;VALUE=DATE:20170503
DTEND;VALUE=DATE:20170504
DTSTAMP:20210517T062151
CREATED:20170413T165341Z
LAST-MODIFIED:20170413T165341Z
UID:4706-1493769600-1493855999@industry.visitmaryland.org
SUMMARY:Travel Information Center Workshop\, Six Flags America
DESCRIPTION:Be involved! Network with your peers and hear the Maryland Office of Tourism updates regarding upcoming events\, marketing plans and other initiatives taking place throughout the state. Enjoy lunch on us and hear our industry partners discuss new products and upcoming events. There is no charge for this workshop. Click here to RSVP no later than April 19\, 2017.
URL:https://industry.visitmaryland.org/event/travel-information-center-workshop-six-flags-america/
END:VEVENT
END:VCALENDAR